BEGIN:VCALENDAR
VERSION:2.0
PRODID:spatie/icalendar-generator
DESCRIPTION:Events from Hampton Roads Ship Model Society
X-WR-CALDESC:Events from Hampton Roads Ship Model Society
REFRESH-INTERVAL;VALUE=DURATION:PT1440M
X-PUBLISHED-TTL:PT1440M
BEGIN:VTIMEZONE
TZID:Etc/GMT+4
BEGIN:STANDARD
DTSTART:20250825T113000Z
TZOFFSETFROM:-0400
TZOFFSETTO:-0400
END:STANDARD
END:VTIMEZONE
BEGIN:VTIMEZONE
TZID:UTC
BEGIN:STANDARD
DTSTART:20250726T150616Z
TZOFFSETFROM:+0000
TZOFFSETTO:+0000
END:STANDARD
END:VTIMEZONE
BEGIN:VEVENT
UID:5653-66
DTSTAMP:20260422T150616Z
SUMMARY:Model Shop - Stewart Winn
LOCATION:The Mariners\\' Museum 100 Museum Drive  Newport News VA 23606
ORGANIZER;CN=Webmaster:MAILTO:webmaster@hrsms.org
RRULE:FREQ=WEEKLY;UNTIL=20320711T000000Z
DTSTART;TZID=Etc/GMT+4:20260522T113000
DTEND;TZID=Etc/GMT+4:20260522T163000
X-ALT-DESC;FMTTYPE=TEXT/HTML:Please click here for more information
CATEGORIES:Model Shop
URL;VALUE=URI:https://www.hrsms.org/mc-events/model-shop-stewart-winn/?mc_i
 d=5653
METHOD:PUBLISH
END:VEVENT
END:VCALENDAR