BEGIN:VCALENDAR
VERSION:2.0
PRODID:spatie/icalendar-generator
DESCRIPTION:Events from Hampton Roads Ship Model Society
X-WR-CALDESC:Events from Hampton Roads Ship Model Society
REFRESH-INTERVAL;VALUE=DURATION:PT1440M
X-PUBLISHED-TTL:PT1440M
BEGIN:VTIMEZONE
TZID:Etc/GMT+4
BEGIN:STANDARD
DTSTART:20241217T100000Z
TZOFFSETFROM:-0400
TZOFFSETTO:-0400
END:STANDARD
END:VTIMEZONE
BEGIN:VTIMEZONE
TZID:UTC
BEGIN:STANDARD
DTSTART:20250729T105653Z
TZOFFSETFROM:+0000
TZOFFSETTO:+0000
END:STANDARD
END:VTIMEZONE
BEGIN:VEVENT
UID:4645-99
DTSTAMP:20260425T105653Z
SUMMARY:Annual Picnic
LOCATION:Newport News Park 13560 Jefferson Ave  Newport News VA 23603
ORGANIZER;CN=Webmaster:MAILTO:webmaster@hrsms.org
DTSTART;TZID=Etc/GMT+4:20250913T100000
DTEND;TZID=Etc/GMT+4:20250913T120000
X-ALT-DESC;FMTTYPE=TEXT/HTML:We will meet at 11am at shelter #1 of Newport 
 News Park.  Guests are welcome. We will not meet online.
CATEGORIES:Monthly Meetings
URL;VALUE=URI:https://www.hrsms.org/mc-events/annual-picnic-2/
METHOD:PUBLISH
END:VEVENT
END:VCALENDAR